BEGIN:VCALENDAR
VERSION:2.0
PRODID:-//eventon.com NONSGML v1.0//EN
CALSCALE:GREGORIAN
METHOD:PUBLISH
BEGIN:VEVENT
UID:69e8e1e635935
DTSTAMP:20260422T145742Z
DTSTART:20230419T000000Z
DTEND:20230419T000000Z
LOCATION:
SUMMARY:Bekendmaking KKB
DESCRIPTION:Bekendmaking KKB\nhttps://svperikles.nl/events/bekendmaking-kkb
 -2/
URL:https://svperikles.nl/events/bekendmaking-kkb-2/
END:VEVENT
END:VCALENDAR