BEGIN:VCALENDAR
VERSION:2.0
PRODID:-//eventon.com NONSGML v1.0//EN
CALSCALE:GREGORIAN
METHOD:PUBLISH
BEGIN:VEVENT
UID:69e5f6be2f4bc
DTSTAMP:20260420T094950Z
DTSTART:20220628T150000Z
DTEND:20220628T170000Z
LOCATION:
SUMMARY:Vrije keuzeruimte activiteit
DESCRIPTION:Vrije keuzeruimte activiteit\nhttps://svperikles.nl/events/vrij
 e-keuzeruimte-activiteit/
URL:https://svperikles.nl/events/vrije-keuzeruimte-activiteit/
END:VEVENT
END:VCALENDAR