BEGIN:VCALENDAR
VERSION:2.0
PRODID:-//eventon.com NONSGML v1.0//EN
CALSCALE:GREGORIAN
METHOD:PUBLISH
BEGIN:VEVENT
UID:69e78d02d77a8
DTSTAMP:20260421T144314Z
DTSTART:20220429T000000Z
DTEND:20220501T000000Z
LOCATION:
SUMMARY:Batavierenrace
DESCRIPTION:De grootste studentenestafette ter wereld en ook het grootste s
 tudentenfestival van de hele BeNeLux! Mocht je nog mee willen doen\,  geef 
 dit dan aan bij de ACS door te mailen naar acs@svperikles.nl\nhttps://svper
 ikles.nl/events/batavierenrace-2/
URL:https://svperikles.nl/events/batavierenrace-2/
END:VEVENT
END:VCALENDAR