BEGIN:VCALENDAR
VERSION:2.0
PRODID:-//eventon.com NONSGML v1.0//EN
CALSCALE:GREGORIAN
METHOD:PUBLISH
BEGIN:VEVENT
UID:69e78b3966d8f
DTSTAMP:20260421T143537Z
DTSTART:20220414T000000Z
DTEND:20220414T000000Z
LOCATION:
SUMMARY:ACO activiteit
DESCRIPTION:Hou je deze dag vrij\,  want we gaan ons weer erg goed vermaken
  met de Acitivteiten Commissie Ontspannend!\nhttps://svperikles.nl/events/a
 co-activiteit-6/
URL:https://svperikles.nl/events/aco-activiteit-6/
END:VEVENT
END:VCALENDAR