BEGIN:VCALENDAR
VERSION:2.0
PRODID:-//eventon.com NONSGML v1.0//EN
CALSCALE:GREGORIAN
METHOD:PUBLISH
BEGIN:VEVENT
UID:69e79133a916d
DTSTAMP:20260421T150107Z
DTSTART:20220225T130000Z
DTEND:20220225T140000Z
LOCATION:
SUMMARY:TAARTMOMENT
DESCRIPTION:Zoals jullie allemaal weten is Perikles vandaag echt jarig\,  o
 p 25 februari 2002 werd zij in het leven geroepen\,  dus vandaag is haar 20
 ste verjaardag! En dat vieren wij natuurlijk door met elkaar een prachtige 
 taart te delen. Kom dus vooral langs op de kamer om de taart te zien[..]\nh
 ttps://svperikles.nl/events/taartmoment/
URL:https://svperikles.nl/events/taartmoment/
END:VEVENT
END:VCALENDAR