BEGIN:VCALENDAR
VERSION:2.0
PRODID:-//eventon.com NONSGML v1.0//EN
CALSCALE:GREGORIAN
METHOD:PUBLISH
BEGIN:VEVENT
UID:69e4e8df447e7
DTSTAMP:20260419T143823Z
DTSTART:20190625T210000Z
DTEND:20190626T010000Z
LOCATION:
SUMMARY:Bedank maandborrel
DESCRIPTION:Bedank maandborrel\nhttps://svperikles.nl/events/bedank-maandbo
 rrel/
URL:https://svperikles.nl/events/bedank-maandborrel/
END:VEVENT
END:VCALENDAR