BEGIN:VCALENDAR
VERSION:2.0
PRODID:-//eventon.com NONSGML v1.0//EN
CALSCALE:GREGORIAN
METHOD:PUBLISH
BEGIN:VEVENT
UID:69e4e949a73b0
DTSTAMP:20260419T144009Z
DTSTART:20190621
DTEND:20190622
LOCATION:
SUMMARY:WWC Binnenland
DESCRIPTION:WWC Binnenland\nhttps://svperikles.nl/events/wwc-binnenland-2/
URL:https://svperikles.nl/events/wwc-binnenland-2/
END:VEVENT
END:VCALENDAR