BEGIN:VCALENDAR
VERSION:2.0
PRODID:-//eventon.com NONSGML v1.0//EN
CALSCALE:GREGORIAN
METHOD:PUBLISH
BEGIN:VEVENT
UID:69e4e8f6729b9
DTSTAMP:20260419T143846Z
DTSTART:20190523T150000Z
DTEND:20190523T220000Z
LOCATION:
SUMMARY:Voortgangs ALV
DESCRIPTION:Tijdens deze Algemene Ledenvergadering zullen onder andere de r
 esultaten van de Perikles enquête worden besproken\,  zal het negentiende 
 kandidaatskandidaatsbestuur worden ingestemd\,  evenals de nieuwe Raad van 
 Toezicht en zal het (financiële) voortgangsverslag besproken worden. De ag
 enda en stukken zullen binnenkort volgen.\nhttps://svperikles.nl/events/voo
 rtgangs-alv/
URL:https://svperikles.nl/events/voortgangs-alv/
END:VEVENT
END:VCALENDAR