BEGIN:VCALENDAR
VERSION:2.0
PRODID:-//eventon.com NONSGML v1.0//EN
CALSCALE:GREGORIAN
METHOD:PUBLISH
BEGIN:VEVENT
UID:69e4e872e3f2b
DTSTAMP:20260419T143634Z
DTSTART:20190401T130000Z
DTEND:20190401T150000Z
LOCATION:
SUMMARY:Inhoudsmoment BRM
DESCRIPTION:Inhoudsmoment BRM\nhttps://svperikles.nl/events/inhoudsmoment-b
 rm/
URL:https://svperikles.nl/events/inhoudsmoment-brm/
END:VEVENT
END:VCALENDAR