BEGIN:VCALENDAR
VERSION:2.0
PRODID:-//eventon.com NONSGML v1.0//EN
CALSCALE:GREGORIAN
METHOD:PUBLISH
BEGIN:VEVENT
UID:69e8a2ebc3f82
DTSTAMP:20260422T102859Z
DTSTART:20190305T180000Z
DTEND:20190305T223000Z
LOCATION:
SUMMARY:REBO NGO Fair
DESCRIPTION:Meer info volgt binnenkort!\nhttps://svperikles.nl/events/rebo-
 ngo-fair/
URL:https://svperikles.nl/events/rebo-ngo-fair/
END:VEVENT
END:VCALENDAR