BEGIN:VCALENDAR
VERSION:2.0
PRODID:-//eventon.com NONSGML v1.0//EN
CALSCALE:GREGORIAN
METHOD:PUBLISH
BEGIN:VEVENT
UID:69e78f8e14b7c
DTSTAMP:20260421T145406Z
DTSTART:20190228T220000Z
DTEND:20190301T030000Z
LOCATION:
SUMMARY:FeCo Feest
DESCRIPTION:FeCo Feest\nhttps://svperikles.nl/events/feco-feest/
URL:https://svperikles.nl/events/feco-feest/
END:VEVENT
END:VCALENDAR