BEGIN:VCALENDAR
VERSION:2.0
PRODID:-//eventon.com NONSGML v1.0//EN
CALSCALE:GREGORIAN
METHOD:PUBLISH
BEGIN:VEVENT
UID:69e4eaeb581ac
DTSTAMP:20260419T144707Z
DTSTART:20240305T200000Z
DTEND:20240305T230000Z
LOCATION:
SUMMARY:Bestuursinteresseborrel
DESCRIPTION:Bestuursinteresseborrel\nhttps://svperikles.nl/events/bestuursi
 nteresseborrel-3/
URL:https://svperikles.nl/events/bestuursinteresseborrel-3/
END:VEVENT
END:VCALENDAR